BEGIN:VCALENDAR
VERSION:2.0
PRODID:icalendar-ruby
CALSCALE:GREGORIAN
METHOD:PUBLISH
BEGIN:VEVENT
DTSTAMP:20260422T052303Z
UID:2-1148056@saltbranchcc.org
DTSTART:20260922T000000Z
DTEND:20260922T010000Z
CLASS:PUBLIC
CREATED:20260421T193838
DESCRIPTION:Weekly gathering at the Bunkhouse and also on Zoom so everyone 
 can grow in God's Word.  Open to all Men.  For more info and Zoom login 
 contact David Shockey @ 325-439-0190. 
LAST-MODIFIED:20260421T193838
LOCATION:1434 Wimberly Rd.\, Merkel Texas & On ZOOM
SUMMARY:Outriders (Mens) Bible Study
URL;VALUE=URI:https://www.saltbranchcc.org/events/outriders-mens-bible-stud
 y/2026-09-21
ATTACH;FILENAME=Untitled-image-%282%29.jpg;FMTTYPE=image/jpeg:https://dq5pw
 pg1q8ru0.cloudfront.net/2022/11/04/10/52/20/bf15b3ad-9c35-470d-a446-05631e
 9e27a1/Untitled-image-%25282%2529.jpg
ATTACH;FILENAME=Untitled-image-%284%29.jpg;FMTTYPE=image/jpeg:https://dq5pw
 pg1q8ru0.cloudfront.net/2022/11/04/10/52/20/413b20ce-dc85-4e9e-a46c-861ece
 bb9cee/Untitled-image-%25284%2529.jpg
ATTACH;FILENAME=Untitled-image-%283%29.jpg;FMTTYPE=image/jpeg:https://dq5pw
 pg1q8ru0.cloudfront.net/2022/11/04/10/52/20/6f748fc6-ff5e-479d-8478-6484e9
 12f377/Untitled-image-%25283%2529.jpg
END:VEVENT
END:VCALENDAR
